BEGIN:VCALENDAR
VERSION:2.0
PRODID:-//sharevent//NONSGML v1.0//EN
CALSCALE:GREGORIAN
BEGIN:VEVENT
SUMMARY:Lo psicologo clinico in ambito oncologico: percorsi tra morte, pensiero e creatività
DTSTART:20221116T173000Z
DTEND:20221116T190000Z
LOCATION:Sala Virtuale
UID:0ac1ddc696a1847af5edc0eaa2ae58cb
DTSTAMP:1776680868
URL;VALUE=URI:https://psicologo-clinico-oncologico.sharevent.app/it-IT/sessions/29264
END:VEVENT
END:VCALENDAR